BEGIN:VCALENDAR
PRODID:-//hacksw/handcal//NONSGML v1.0//EN
VERSION:2.0
METHOD:PUBLISH
BEGIN:VEVENT
DTSTART:20240821T213000Z
DTEND:20240821T233000Z
LOCATION:Carroll's Creek Cafe, 410 Severn Ave, Annapolis, MD 21403
UID:2543720240821T213000ZWine Down Wednesday
DTSTAMP:20260424T152747Z
DESCRIPTION:\n\nWine Down Wednesday provides an opportunity for AAEPC members and guests\n to socialize and network.\n \nAugust 21, 2024\n 5:30 pm to 7:30 pm\n Carroll's Creek Cafe\n 410 Severn Ave\n Annapolis, MD 21403\n \nFree for AAEPC members. Enjoy appetizers, a cash bar, and networking!\n \n[Click here to register for this event.](https://cfaac.fcsuite.com/erp/donate/list/event?event_date_id=4379)\n \nGenerously Sponsored By: \n \n[](https://www.fnb-online.com/)\n
SUMMARY:Wine Down Wednesday - Anne Arundel Estate Planning Council 
PRIORITY:3
BEGIN:VALARM
TRIGGER:PT18H
ACTION:DISPLAY
DESCRIPTION:Reminder
END:VALARM
END:VEVENT
END:VCALENDAR