BEGIN:VCALENDAR
PRODID:-//hacksw/handcal//NONSGML v1.0//EN
VERSION:2.0
METHOD:PUBLISH
BEGIN:VEVENT
DTSTART:20230322T213000Z
DTEND:20230322T233000Z
LOCATION:Cooper's Hawk Winery & Restaurant - 1906 Towne Centre Blvd Suite 238, Annapolis, MD 21401
UID:2381720230322T213000ZWine Down Wednesday
DTSTAMP:20260424T151154Z
DESCRIPTION:\n \n \nEnjoy appetizers, a cash bar, and great networking!\n \n[Click here to register for this event.](https://cfaac.fcsuite.com/erp/donate/list/event?event_date_id=3745)\n \nSponsored By:\n \n[](https://www.bfsaulinsurance.com/)\n
SUMMARY:Wine Down Wednesday - Anne Arundel Estate Planning Council 
PRIORITY:3
BEGIN:VALARM
TRIGGER:PT18H
ACTION:DISPLAY
DESCRIPTION:Reminder
END:VALARM
END:VEVENT
END:VCALENDAR