BEGIN:VCALENDAR
PRODID:-//hacksw/handcal//NONSGML v1.0//EN
VERSION:2.0
METHOD:PUBLISH
BEGIN:VEVENT
DTSTART:20171206T163000Z
DTEND:20171206T183000Z
LOCATION:Loews Annapolis Hotel, Thomas Point Meeting Room 
UID:1562520171206T163000ZHoliday Luncheon 
DTSTAMP:20260420T073230Z
DESCRIPTION:\nEnjoy lunch and celebrate the holidays with your fellow AAEPC members!  \n  \nThe AAEPC will be collecting and donating food for families in-need. Please bring non-perishable food items so our neighbors have enough food on their table during this season of giving. \n  \nAll food collected will be donated to The Light House. Thank you for your help and generosity
SUMMARY:Holiday Luncheon  - Anne Arundel Estate Planning Council 
PRIORITY:3
BEGIN:VALARM
TRIGGER:PT18H
ACTION:DISPLAY
DESCRIPTION:Reminder
END:VALARM
END:VEVENT
END:VCALENDAR